BEGIN:VCALENDAR
VERSION:2.0
PRODID:-//Art of the Meal - ECPv6.15.20//NONSGML v1.0//EN
CALSCALE:GREGORIAN
METHOD:PUBLISH
X-WR-CALNAME:Art of the Meal
X-ORIGINAL-URL:https://artofthemeal.net
X-WR-CALDESC:Events for Art of the Meal
REFRESH-INTERVAL;VALUE=DURATION:PT1H
X-Robots-Tag:noindex
X-PUBLISHED-TTL:PT1H
BEGIN:VTIMEZONE
TZID:America/Chicago
BEGIN:DAYLIGHT
TZOFFSETFROM:-0600
TZOFFSETTO:-0500
TZNAME:CDT
DTSTART:20240310T080000
END:DAYLIGHT
BEGIN:STANDARD
TZOFFSETFROM:-0500
TZOFFSETTO:-0600
TZNAME:CST
DTSTART:20241103T070000
END:STANDARD
BEGIN:DAYLIGHT
TZOFFSETFROM:-0600
TZOFFSETTO:-0500
TZNAME:CDT
DTSTART:20250309T080000
END:DAYLIGHT
BEGIN:STANDARD
TZOFFSETFROM:-0500
TZOFFSETTO:-0600
TZNAME:CST
DTSTART:20251102T070000
END:STANDARD
BEGIN:DAYLIGHT
TZOFFSETFROM:-0600
TZOFFSETTO:-0500
TZNAME:CDT
DTSTART:20260308T080000
END:DAYLIGHT
BEGIN:STANDARD
TZOFFSETFROM:-0500
TZOFFSETTO:-0600
TZNAME:CST
DTSTART:20261101T070000
END:STANDARD
END:VTIMEZONE
BEGIN:VEVENT
DTSTART;TZID=America/Chicago:20250309T123000
DTEND;TZID=America/Chicago:20250309T143000
DTSTAMP:20260424T115842
CREATED:20250205T140253Z
LAST-MODIFIED:20250205T140326Z
UID:10000451-1741523400-1741530600@artofthemeal.net
SUMMARY:Delta Church Ladies’ Pasta-Making Class & Community Giving! 🍝💛
DESCRIPTION:Ladies of Delta Church\, join us for a fun and hands-on cooking class\, where we’ll roll up our sleeves and make fresh\, homemade pasta together! After enjoying a delicious lunch featuring our creations we will share a devotional and spend some time in prayer for our community and then package extra meals to deliver to our local first responders as a small token of appreciation for their service. \nIt’s the perfect way to learn\, serve the Lord with gladness\, and give back—all in one afternoon! \nSpots are limited—sign up today! 🍽️💕 \n 
URL:https://artofthemeal.net/event/delta-church-ladies-pasta-making-class-community-giving-%f0%9f%8d%9d%f0%9f%92%9b/
LOCATION:Art of the Meal\, 617 Broadway\, Marble Falls\, TX\, 78654\, United States
CATEGORIES:Private
ATTACH;FMTTYPE=image/jpeg:https://artofthemeal.net/wp-content/uploads/2022/08/776x581-27.jpg
GEO:30.5756376;-98.2716627
X-APPLE-STRUCTURED-LOCATION;VALUE=URI;X-ADDRESS=Art of the Meal 617 Broadway Marble Falls TX 78654 United States;X-APPLE-RADIUS=500;X-TITLE=617 Broadway:geo:-98.2716627,30.5756376
END:VEVENT
END:VCALENDAR