BEGIN:VCALENDAR
VERSION:2.0
PRODID:-//Art of the Meal - ECPv6.15.20//NONSGML v1.0//EN
CALSCALE:GREGORIAN
METHOD:PUBLISH
X-ORIGINAL-URL:https://artofthemeal.net
X-WR-CALDESC:Events for Art of the Meal
REFRESH-INTERVAL;VALUE=DURATION:PT1H
X-Robots-Tag:noindex
X-PUBLISHED-TTL:PT1H
BEGIN:VTIMEZONE
TZID:America/Chicago
BEGIN:DAYLIGHT
TZOFFSETFROM:-0600
TZOFFSETTO:-0500
TZNAME:CDT
DTSTART:20230312T080000
END:DAYLIGHT
BEGIN:STANDARD
TZOFFSETFROM:-0500
TZOFFSETTO:-0600
TZNAME:CST
DTSTART:20231105T070000
END:STANDARD
BEGIN:DAYLIGHT
TZOFFSETFROM:-0600
TZOFFSETTO:-0500
TZNAME:CDT
DTSTART:20240310T080000
END:DAYLIGHT
BEGIN:STANDARD
TZOFFSETFROM:-0500
TZOFFSETTO:-0600
TZNAME:CST
DTSTART:20241103T070000
END:STANDARD
BEGIN:DAYLIGHT
TZOFFSETFROM:-0600
TZOFFSETTO:-0500
TZNAME:CDT
DTSTART:20250309T080000
END:DAYLIGHT
BEGIN:STANDARD
TZOFFSETFROM:-0500
TZOFFSETTO:-0600
TZNAME:CST
DTSTART:20251102T070000
END:STANDARD
END:VTIMEZONE
BEGIN:VEVENT
DTSTART;TZID=America/Chicago:20240805T100000
DTEND;TZID=America/Chicago:20240805T130000
DTSTAMP:20260419T090802
CREATED:20240218T233501Z
LAST-MODIFIED:20240718T221106Z
UID:10000328-1722852000-1722862800@artofthemeal.net
SUMMARY:Kids Cooking Camp V - Ages 7-14(Day 1)
DESCRIPTION:Price is for all 4 days\nGet ready for a sizzling summer adventure at Art of the Meal! Our Kids Summer Cooking Camp is back and better than ever. Join us for a fun-filled culinary experience where young chefs will discover the joy of cooking\, baking\, and creating delicious memories. \nCamp tuition includes 2 guests on the last day for a fun tasting of some of our favorite dishes! \n🍴 What to Expect: \nReading Recipes: Unlock the secrets of reading recipes\, from deciphering ingredients to understanding cooking techniques. Our budding chefs will enhance their culinary literacy and gain confidence in the kitchen. \nMeasurement Mastery: Dive into the world of precise measurements! Kids will learn the importance of accurate measuring\, turning each recipe into a culinary masterpiece. \nTeamwork in Action: Discover the power of teamwork! Kids will collaborate in groups of four\, fostering communication and cooperation as they embark on exciting cooking challenges. \nBaking Bonanza: Indulge in the sweetness of baking! From cookies to cupcakes\, our young bakers will create delectable treats that will tickle their taste buds. \nSpice Blending Fun: Spice up the kitchen with a hands-on lesson in spice blending. Kids will experiment with different flavors\, creating unique blends that add a dash of excitement to their dishes. \nPicnic Pleasures: Embrace the joy of picnics! Our spacious yard is ideal for outdoor gatherings. Kids will enjoy the fruits of their labor with delightful picnics\, surrounded by nature and good company. \nPantry “Shopping” Challenge: Experience a mini shopping spree! Groups of four will navigate our pantry\, selecting ingredients for their recipes. It’s a creative and interactive way to learn about food and organization.
URL:https://artofthemeal.net/event/kids-cooking-camp-v-ages-7-14day-1-2/
LOCATION:Art of the Meal\, 617 Broadway\, Marble Falls\, TX\, 78654\, United States
CATEGORIES:Kids,Kids Camp
ATTACH;FMTTYPE=image/jpeg:https://artofthemeal.net/wp-content/uploads/2024/02/Screenshot-2024-02-18-at-4.36.55 PM.jpeg
GEO:30.5756376;-98.2716627
X-APPLE-STRUCTURED-LOCATION;VALUE=URI;X-ADDRESS=Art of the Meal 617 Broadway Marble Falls TX 78654 United States;X-APPLE-RADIUS=500;X-TITLE=617 Broadway:geo:-98.2716627,30.5756376
END:VEVENT
BEGIN:VEVENT
DTSTART;TZID=America/Chicago:20240806T100000
DTEND;TZID=America/Chicago:20240806T130000
DTSTAMP:20260419T090802
CREATED:20240218T233807Z
LAST-MODIFIED:20240222T154604Z
UID:10000329-1722938400-1722949200@artofthemeal.net
SUMMARY:Kids Cooking Camp V - Ages 7-14(Day 2)
DESCRIPTION:4 day camp
URL:https://artofthemeal.net/event/kids-cooking-camp-v-ages-7-14day-2-2/
LOCATION:Art of the Meal\, 617 Broadway\, Marble Falls\, TX\, 78654\, United States
CATEGORIES:Kids,Kids Camp
ATTACH;FMTTYPE=image/jpeg:https://artofthemeal.net/wp-content/uploads/2024/02/Screenshot-2024-02-18-at-4.36.55 PM.jpeg
GEO:30.5756376;-98.2716627
X-APPLE-STRUCTURED-LOCATION;VALUE=URI;X-ADDRESS=Art of the Meal 617 Broadway Marble Falls TX 78654 United States;X-APPLE-RADIUS=500;X-TITLE=617 Broadway:geo:-98.2716627,30.5756376
END:VEVENT
BEGIN:VEVENT
DTSTART;TZID=America/Chicago:20240807T100000
DTEND;TZID=America/Chicago:20240807T130000
DTSTAMP:20260419T090802
CREATED:20240218T234044Z
LAST-MODIFIED:20240222T154343Z
UID:10000330-1723024800-1723035600@artofthemeal.net
SUMMARY:Kids Cooking Camp V - Ages 7-14(Day 3)
DESCRIPTION:4 day camp
URL:https://artofthemeal.net/event/kids-cooking-camp-v-ages-7-14day-3-2/
LOCATION:Art of the Meal\, 617 Broadway\, Marble Falls\, TX\, 78654\, United States
CATEGORIES:Kids,Kids Camp
ATTACH;FMTTYPE=image/jpeg:https://artofthemeal.net/wp-content/uploads/2024/02/Screenshot-2024-02-18-at-4.36.55 PM.jpeg
GEO:30.5756376;-98.2716627
X-APPLE-STRUCTURED-LOCATION;VALUE=URI;X-ADDRESS=Art of the Meal 617 Broadway Marble Falls TX 78654 United States;X-APPLE-RADIUS=500;X-TITLE=617 Broadway:geo:-98.2716627,30.5756376
END:VEVENT
BEGIN:VEVENT
DTSTART;TZID=America/Chicago:20240808T100000
DTEND;TZID=America/Chicago:20240808T130000
DTSTAMP:20260419T090802
CREATED:20240218T234238Z
LAST-MODIFIED:20240222T154330Z
UID:10000331-1723111200-1723122000@artofthemeal.net
SUMMARY:Kids Cooking Camp V - Ages 7-14(Day 4)
DESCRIPTION:4 day camp
URL:https://artofthemeal.net/event/kids-cooking-camp-v-ages-7-14day-4-2/
LOCATION:Art of the Meal\, 617 Broadway\, Marble Falls\, TX\, 78654\, United States
CATEGORIES:Kids,Kids Camp
ATTACH;FMTTYPE=image/jpeg:https://artofthemeal.net/wp-content/uploads/2024/02/Screenshot-2024-02-18-at-4.36.55 PM.jpeg
GEO:30.5756376;-98.2716627
X-APPLE-STRUCTURED-LOCATION;VALUE=URI;X-ADDRESS=Art of the Meal 617 Broadway Marble Falls TX 78654 United States;X-APPLE-RADIUS=500;X-TITLE=617 Broadway:geo:-98.2716627,30.5756376
END:VEVENT
END:VCALENDAR