BEGIN:VCALENDAR
VERSION:2.0
PRODID:-//Art of the Meal - ECPv6.15.20//NONSGML v1.0//EN
CALSCALE:GREGORIAN
METHOD:PUBLISH
X-WR-CALNAME:Art of the Meal
X-ORIGINAL-URL:https://artofthemeal.net
X-WR-CALDESC:Events for Art of the Meal
REFRESH-INTERVAL;VALUE=DURATION:PT1H
X-Robots-Tag:noindex
X-PUBLISHED-TTL:PT1H
BEGIN:VTIMEZONE
TZID:America/Chicago
BEGIN:DAYLIGHT
TZOFFSETFROM:-0600
TZOFFSETTO:-0500
TZNAME:CDT
DTSTART:20220313T080000
END:DAYLIGHT
BEGIN:STANDARD
TZOFFSETFROM:-0500
TZOFFSETTO:-0600
TZNAME:CST
DTSTART:20221106T070000
END:STANDARD
BEGIN:DAYLIGHT
TZOFFSETFROM:-0600
TZOFFSETTO:-0500
TZNAME:CDT
DTSTART:20230312T080000
END:DAYLIGHT
BEGIN:STANDARD
TZOFFSETFROM:-0500
TZOFFSETTO:-0600
TZNAME:CST
DTSTART:20231105T070000
END:STANDARD
BEGIN:DAYLIGHT
TZOFFSETFROM:-0600
TZOFFSETTO:-0500
TZNAME:CDT
DTSTART:20240310T080000
END:DAYLIGHT
BEGIN:STANDARD
TZOFFSETFROM:-0500
TZOFFSETTO:-0600
TZNAME:CST
DTSTART:20241103T070000
END:STANDARD
END:VTIMEZONE
BEGIN:VEVENT
DTSTART;TZID=America/Chicago:20230801T110000
DTEND;TZID=America/Chicago:20230801T130000
DTSTAMP:20260423T161450
CREATED:20230624T145453Z
LAST-MODIFIED:20230624T145453Z
UID:10000211-1690887600-1690894800@artofthemeal.net
SUMMARY:City of Marble Falls
DESCRIPTION:
URL:https://artofthemeal.net/event/city-of-marble-falls-2/
LOCATION:Art of the Meal\, 617 Broadway\, Marble Falls\, TX\, 78654\, United States
CATEGORIES:Private
ATTACH;FMTTYPE=image/jpeg:https://artofthemeal.net/wp-content/uploads/2022/08/776x581-private-event2.jpg
GEO:30.5756376;-98.2716627
X-APPLE-STRUCTURED-LOCATION;VALUE=URI;X-ADDRESS=Art of the Meal 617 Broadway Marble Falls TX 78654 United States;X-APPLE-RADIUS=500;X-TITLE=617 Broadway:geo:-98.2716627,30.5756376
END:VEVENT
BEGIN:VEVENT
DTSTART;TZID=America/Chicago:20230805T080000
DTEND;TZID=America/Chicago:20230805T170000
DTSTAMP:20260423T161450
CREATED:20230624T150006Z
LAST-MODIFIED:20230624T150006Z
UID:10000213-1691222400-1691254800@artofthemeal.net
SUMMARY:Wedding Catering
DESCRIPTION:
URL:https://artofthemeal.net/event/wedding-catering/
LOCATION:Art of the Meal\, 617 Broadway\, Marble Falls\, TX\, 78654\, United States
CATEGORIES:Catering
ATTACH;FMTTYPE=image/jpeg:https://artofthemeal.net/wp-content/uploads/2022/08/776x581-private-event2.jpg
GEO:30.5756376;-98.2716627
X-APPLE-STRUCTURED-LOCATION;VALUE=URI;X-ADDRESS=Art of the Meal 617 Broadway Marble Falls TX 78654 United States;X-APPLE-RADIUS=500;X-TITLE=617 Broadway:geo:-98.2716627,30.5756376
END:VEVENT
BEGIN:VEVENT
DTSTART;TZID=America/Chicago:20230806T080000
DTEND;TZID=America/Chicago:20230806T170000
DTSTAMP:20260423T161450
CREATED:20230723T194024Z
LAST-MODIFIED:20230723T194024Z
UID:10000221-1691308800-1691341200@artofthemeal.net
SUMMARY:We are moving! Call the kitchen for private classes-regular schedule will resume in September!
DESCRIPTION:
URL:https://artofthemeal.net/event/we-are-moving-call-the-kitchen-for-private-classes-regular-schedule-will-resume-in-september/
LOCATION:Art of the Meal\, 617 Broadway\, Marble Falls\, TX\, 78654\, United States
ATTACH;FMTTYPE=image/webp:https://artofthemeal.net/wp-content/uploads/2022/09/artofmeal.webp
GEO:30.5756376;-98.2716627
X-APPLE-STRUCTURED-LOCATION;VALUE=URI;X-ADDRESS=Art of the Meal 617 Broadway Marble Falls TX 78654 United States;X-APPLE-RADIUS=500;X-TITLE=617 Broadway:geo:-98.2716627,30.5756376
END:VEVENT
BEGIN:VEVENT
DTSTART;TZID=America/Chicago:20230808T110000
DTEND;TZID=America/Chicago:20230808T130000
DTSTAMP:20260423T161450
CREATED:20230624T144953Z
LAST-MODIFIED:20230624T144953Z
UID:10000210-1691492400-1691499600@artofthemeal.net
SUMMARY:Private Cooking Class-Rabon
DESCRIPTION:
URL:https://artofthemeal.net/event/private-cooking-class-rabon/
LOCATION:Art of the Meal\, 617 Broadway\, Marble Falls\, TX\, 78654\, United States
CATEGORIES:Adult class,Private
ATTACH;FMTTYPE=image/jpeg:https://artofthemeal.net/wp-content/uploads/2022/08/776x581-private-event2.jpg
GEO:30.5756376;-98.2716627
X-APPLE-STRUCTURED-LOCATION;VALUE=URI;X-ADDRESS=Art of the Meal 617 Broadway Marble Falls TX 78654 United States;X-APPLE-RADIUS=500;X-TITLE=617 Broadway:geo:-98.2716627,30.5756376
END:VEVENT
BEGIN:VEVENT
DTSTART;TZID=America/Chicago:20230808T120000
DTEND;TZID=America/Chicago:20230808T140000
DTSTAMP:20260423T161450
CREATED:20230723T193014Z
LAST-MODIFIED:20230723T193014Z
UID:10000218-1691496000-1691503200@artofthemeal.net
SUMMARY:Private Kids Cooking Class
DESCRIPTION:
URL:https://artofthemeal.net/event/private-kids-cooking-class-3/
LOCATION:Art of the Meal\, 617 Broadway\, Marble Falls\, TX\, 78654\, United States
CATEGORIES:Kids,Private
ATTACH;FMTTYPE=image/jpeg:https://artofthemeal.net/wp-content/uploads/2022/08/776x581-private-event2.jpg
GEO:30.5756376;-98.2716627
X-APPLE-STRUCTURED-LOCATION;VALUE=URI;X-ADDRESS=Art of the Meal 617 Broadway Marble Falls TX 78654 United States;X-APPLE-RADIUS=500;X-TITLE=617 Broadway:geo:-98.2716627,30.5756376
END:VEVENT
BEGIN:VEVENT
DTSTART;TZID=America/Chicago:20230809T160000
DTEND;TZID=America/Chicago:20230809T180000
DTSTAMP:20260423T161450
CREATED:20230807T155513Z
LAST-MODIFIED:20230807T155513Z
UID:10000226-1691596800-1691604000@artofthemeal.net
SUMMARY:Cramblett-Private
DESCRIPTION:
URL:https://artofthemeal.net/event/cramblett-private/
LOCATION:Art of the Meal\, 617 Broadway\, Marble Falls\, TX\, 78654\, United States
CATEGORIES:Private
ATTACH;FMTTYPE=image/jpeg:https://artofthemeal.net/wp-content/uploads/2022/08/776x581-private-event2.jpg
GEO:30.5756376;-98.2716627
X-APPLE-STRUCTURED-LOCATION;VALUE=URI;X-ADDRESS=Art of the Meal 617 Broadway Marble Falls TX 78654 United States;X-APPLE-RADIUS=500;X-TITLE=617 Broadway:geo:-98.2716627,30.5756376
END:VEVENT
BEGIN:VEVENT
DTSTART;TZID=America/Chicago:20230810T110000
DTEND;TZID=America/Chicago:20230810T130000
DTSTAMP:20260423T161450
CREATED:20230711T130955Z
LAST-MODIFIED:20230804T181532Z
UID:10000215-1691665200-1691672400@artofthemeal.net
SUMMARY:Private Cooking Class-Lane
DESCRIPTION:
URL:https://artofthemeal.net/event/private-cooking-class-lane/
LOCATION:TX
CATEGORIES:Private
ATTACH;FMTTYPE=image/jpeg:https://artofthemeal.net/wp-content/uploads/2022/08/776x581-private-event2.jpg
END:VEVENT
BEGIN:VEVENT
DTSTART;TZID=America/Chicago:20230812T080000
DTEND;TZID=America/Chicago:20230812T120000
DTSTAMP:20260423T161450
CREATED:20230723T193148Z
LAST-MODIFIED:20230723T193148Z
UID:10000219-1691827200-1691841600@artofthemeal.net
SUMMARY:Catering-HSB
DESCRIPTION:
URL:https://artofthemeal.net/event/catering-hsb/
LOCATION:Art of the Meal\, 617 Broadway\, Marble Falls\, TX\, 78654\, United States
CATEGORIES:Catering
ATTACH;FMTTYPE=image/jpeg:https://artofthemeal.net/wp-content/uploads/2022/08/776x581-private-event2.jpg
GEO:30.5756376;-98.2716627
X-APPLE-STRUCTURED-LOCATION;VALUE=URI;X-ADDRESS=Art of the Meal 617 Broadway Marble Falls TX 78654 United States;X-APPLE-RADIUS=500;X-TITLE=617 Broadway:geo:-98.2716627,30.5756376
END:VEVENT
BEGIN:VEVENT
DTSTART;TZID=America/Chicago:20230815T100000
DTEND;TZID=America/Chicago:20230815T120000
DTSTAMP:20260423T161450
CREATED:20230723T193449Z
LAST-MODIFIED:20230723T193449Z
UID:10000220-1692093600-1692100800@artofthemeal.net
SUMMARY:Private Tasting
DESCRIPTION:
URL:https://artofthemeal.net/event/private-tasting/
LOCATION:Art of the Meal\, 617 Broadway\, Marble Falls\, TX\, 78654\, United States
CATEGORIES:Catering
ATTACH;FMTTYPE=image/jpeg:https://artofthemeal.net/wp-content/uploads/2022/08/776x581-private-event2.jpg
GEO:30.5756376;-98.2716627
X-APPLE-STRUCTURED-LOCATION;VALUE=URI;X-ADDRESS=Art of the Meal 617 Broadway Marble Falls TX 78654 United States;X-APPLE-RADIUS=500;X-TITLE=617 Broadway:geo:-98.2716627,30.5756376
END:VEVENT
BEGIN:VEVENT
DTSTART;TZID=America/Chicago:20230817T053000
DTEND;TZID=America/Chicago:20230817T193000
DTSTAMP:20260423T161450
CREATED:20230723T191807Z
LAST-MODIFIED:20230723T191855Z
UID:10000216-1692250200-1692300600@artofthemeal.net
SUMMARY:Private Cooking Class-Miller
DESCRIPTION:
URL:https://artofthemeal.net/event/private-cooking-class-miller/
LOCATION:Art of the Meal\, 617 Broadway\, Marble Falls\, TX\, 78654\, United States
CATEGORIES:Private Chef
ATTACH;FMTTYPE=image/jpeg:https://artofthemeal.net/wp-content/uploads/2022/08/776x581-private-event2.jpg
GEO:30.5756376;-98.2716627
X-APPLE-STRUCTURED-LOCATION;VALUE=URI;X-ADDRESS=Art of the Meal 617 Broadway Marble Falls TX 78654 United States;X-APPLE-RADIUS=500;X-TITLE=617 Broadway:geo:-98.2716627,30.5756376
END:VEVENT
BEGIN:VEVENT
DTSTART;TZID=America/Chicago:20230819T110000
DTEND;TZID=America/Chicago:20230819T130000
DTSTAMP:20260423T161450
CREATED:20230723T192759Z
LAST-MODIFIED:20230723T192759Z
UID:10000217-1692442800-1692450000@artofthemeal.net
SUMMARY:Girl Scouts Cooking Class
DESCRIPTION:
URL:https://artofthemeal.net/event/girl-scouts-cooking-class/
LOCATION:Art of the Meal\, 617 Broadway\, Marble Falls\, TX\, 78654\, United States
CATEGORIES:Kids Class
ATTACH;FMTTYPE=image/jpeg:https://artofthemeal.net/wp-content/uploads/2022/08/776x581-private-event2.jpg
GEO:30.5756376;-98.2716627
X-APPLE-STRUCTURED-LOCATION;VALUE=URI;X-ADDRESS=Art of the Meal 617 Broadway Marble Falls TX 78654 United States;X-APPLE-RADIUS=500;X-TITLE=617 Broadway:geo:-98.2716627,30.5756376
END:VEVENT
BEGIN:VEVENT
DTSTART;TZID=America/Chicago:20230825T080000
DTEND;TZID=America/Chicago:20230825T170000
DTSTAMP:20260423T161450
CREATED:20230624T145722Z
LAST-MODIFIED:20230624T145722Z
UID:10000212-1692950400-1692982800@artofthemeal.net
SUMMARY:Wedding Catering-Nantz
DESCRIPTION:
URL:https://artofthemeal.net/event/wedding-catering-nantz/
LOCATION:Art of the Meal\, 617 Broadway\, Marble Falls\, TX\, 78654\, United States
CATEGORIES:Catering
ATTACH;FMTTYPE=image/jpeg:https://artofthemeal.net/wp-content/uploads/2022/08/776x581-private-event2.jpg
GEO:30.5756376;-98.2716627
X-APPLE-STRUCTURED-LOCATION;VALUE=URI;X-ADDRESS=Art of the Meal 617 Broadway Marble Falls TX 78654 United States;X-APPLE-RADIUS=500;X-TITLE=617 Broadway:geo:-98.2716627,30.5756376
END:VEVENT
BEGIN:VEVENT
DTSTART;TZID=America/Chicago:20230826T080000
DTEND;TZID=America/Chicago:20230826T170000
DTSTAMP:20260423T161450
CREATED:20230424T202934Z
LAST-MODIFIED:20230424T202934Z
UID:10000195-1693036800-1693069200@artofthemeal.net
SUMMARY:Wedding Catering-Nanz
DESCRIPTION:
URL:https://artofthemeal.net/event/wedding-catering-nanz/
LOCATION:Art of the Meal\, 617 Broadway\, Marble Falls\, TX\, 78654\, United States
CATEGORIES:Catering
ATTACH;FMTTYPE=image/jpeg:https://artofthemeal.net/wp-content/uploads/2022/08/776x581-private-event2.jpg
GEO:30.5756376;-98.2716627
X-APPLE-STRUCTURED-LOCATION;VALUE=URI;X-ADDRESS=Art of the Meal 617 Broadway Marble Falls TX 78654 United States;X-APPLE-RADIUS=500;X-TITLE=617 Broadway:geo:-98.2716627,30.5756376
END:VEVENT
BEGIN:VEVENT
DTSTART;TZID=America/Chicago:20230826T090000
DTEND;TZID=America/Chicago:20230826T123000
DTSTAMP:20260423T161450
CREATED:20230525T160420Z
LAST-MODIFIED:20230525T160420Z
UID:10000205-1693040400-1693053000@artofthemeal.net
SUMMARY:Catering-Miller
DESCRIPTION:
URL:https://artofthemeal.net/event/catering-miller/
LOCATION:Art of the Meal\, 617 Broadway\, Marble Falls\, TX\, 78654\, United States
CATEGORIES:Catering
ATTACH;FMTTYPE=image/jpeg:https://artofthemeal.net/wp-content/uploads/2022/08/776x581-private-event2.jpg
GEO:30.5756376;-98.2716627
X-APPLE-STRUCTURED-LOCATION;VALUE=URI;X-ADDRESS=Art of the Meal 617 Broadway Marble Falls TX 78654 United States;X-APPLE-RADIUS=500;X-TITLE=617 Broadway:geo:-98.2716627,30.5756376
END:VEVENT
END:VCALENDAR