BEGIN:VCALENDAR
VERSION:2.0
PRODID:-//Art of the Meal - ECPv6.15.20//NONSGML v1.0//EN
CALSCALE:GREGORIAN
METHOD:PUBLISH
X-WR-CALNAME:Art of the Meal
X-ORIGINAL-URL:https://artofthemeal.net
X-WR-CALDESC:Events for Art of the Meal
REFRESH-INTERVAL;VALUE=DURATION:PT1H
X-Robots-Tag:noindex
X-PUBLISHED-TTL:PT1H
BEGIN:VTIMEZONE
TZID:America/Chicago
BEGIN:DAYLIGHT
TZOFFSETFROM:-0600
TZOFFSETTO:-0500
TZNAME:CDT
DTSTART:20240310T080000
END:DAYLIGHT
BEGIN:STANDARD
TZOFFSETFROM:-0500
TZOFFSETTO:-0600
TZNAME:CST
DTSTART:20241103T070000
END:STANDARD
BEGIN:DAYLIGHT
TZOFFSETFROM:-0600
TZOFFSETTO:-0500
TZNAME:CDT
DTSTART:20250309T080000
END:DAYLIGHT
BEGIN:STANDARD
TZOFFSETFROM:-0500
TZOFFSETTO:-0600
TZNAME:CST
DTSTART:20251102T070000
END:STANDARD
BEGIN:DAYLIGHT
TZOFFSETFROM:-0600
TZOFFSETTO:-0500
TZNAME:CDT
DTSTART:20260308T080000
END:DAYLIGHT
BEGIN:STANDARD
TZOFFSETFROM:-0500
TZOFFSETTO:-0600
TZNAME:CST
DTSTART:20261101T070000
END:STANDARD
END:VTIMEZONE
BEGIN:VEVENT
DTSTART;TZID=America/Chicago:20251003T170000
DTEND;TZID=America/Chicago:20251003T210000
DTSTAMP:20260423T145436
CREATED:20250703T004957Z
LAST-MODIFIED:20250703T004957Z
UID:10000515-1759510800-1759525200@artofthemeal.net
SUMMARY:Private Chef-Carter
DESCRIPTION:
URL:https://artofthemeal.net/event/private-chef-carter/
LOCATION:Art of the Meal\, 617 Broadway\, Marble Falls\, TX\, 78654\, United States
CATEGORIES:Private
ATTACH;FMTTYPE=image/jpeg:https://artofthemeal.net/wp-content/uploads/2023/12/IMG_8EA566A721F7-1.jpeg
GEO:30.5756376;-98.2716627
X-APPLE-STRUCTURED-LOCATION;VALUE=URI;X-ADDRESS=Art of the Meal 617 Broadway Marble Falls TX 78654 United States;X-APPLE-RADIUS=500;X-TITLE=617 Broadway:geo:-98.2716627,30.5756376
END:VEVENT
BEGIN:VEVENT
DTSTART;TZID=America/Chicago:20251004T170000
DTEND;TZID=America/Chicago:20251004T210000
DTSTAMP:20260423T145436
CREATED:20250908T145614Z
LAST-MODIFIED:20250908T145614Z
UID:10000542-1759597200-1759611600@artofthemeal.net
SUMMARY:Private Chef-Troutt
DESCRIPTION:
URL:https://artofthemeal.net/event/private-chef-troutt/
LOCATION:Art of the Meal\, 617 Broadway\, Marble Falls\, TX\, 78654\, United States
CATEGORIES:Private Chef
ATTACH;FMTTYPE=image/webp:https://artofthemeal.net/wp-content/uploads/2022/09/artofmeal.webp
GEO:30.5756376;-98.2716627
X-APPLE-STRUCTURED-LOCATION;VALUE=URI;X-ADDRESS=Art of the Meal 617 Broadway Marble Falls TX 78654 United States;X-APPLE-RADIUS=500;X-TITLE=617 Broadway:geo:-98.2716627,30.5756376
END:VEVENT
BEGIN:VEVENT
DTSTART;TZID=America/Chicago:20251025T180000
DTEND;TZID=America/Chicago:20251025T200000
DTSTAMP:20260423T145436
CREATED:20250923T185824Z
LAST-MODIFIED:20250923T185824Z
UID:10000544-1761415200-1761422400@artofthemeal.net
SUMMARY:Cooking Class-Rustic French Date Night
DESCRIPTION:French home cooking is rich with complex flavors and surprising simplicity. Join me and learn how to sauté green beans in brown butter and transform roasted cauliflower into a creamy soup. I’ll teach you how to craft the quintessential French comfort food—cassoulet\, a slow-cooked meat and bean casserole. To finish\, we’ll sweeten the evening with pears poached in white wine paired with a sweet Vanilla Bean Crème Anglaise.\n\nAppetizer and Fresh Bread Provided\n\nRoasted Cauliflower Soup with Garlic Oil \nHaricots Verts with Toasted Almonds and Brown Butter \nChicken and Sausage Cassoulet \nWhite Wine Poached Pear with Vanilla Bean Crème Anglaise
URL:https://artofthemeal.net/event/cooking-class-rustic-french-date-night/
LOCATION:Art of the Meal\, 617 Broadway\, Marble Falls\, TX\, 78654\, United States
CATEGORIES:Cooking class
ATTACH;FMTTYPE=image/jpeg:https://artofthemeal.net/wp-content/uploads/2022/09/IMG_CAFAFADB7B2B-1.jpeg
GEO:30.5756376;-98.2716627
X-APPLE-STRUCTURED-LOCATION;VALUE=URI;X-ADDRESS=Art of the Meal 617 Broadway Marble Falls TX 78654 United States;X-APPLE-RADIUS=500;X-TITLE=617 Broadway:geo:-98.2716627,30.5756376
END:VEVENT
BEGIN:VEVENT
DTSTART;TZID=America/Chicago:20251027T140000
DTEND;TZID=America/Chicago:20251027T160000
DTSTAMP:20260423T145436
CREATED:20250930T153045Z
LAST-MODIFIED:20250930T153045Z
UID:10000549-1761573600-1761580800@artofthemeal.net
SUMMARY:Reserved-Orboney
DESCRIPTION:
URL:https://artofthemeal.net/event/reserved-orboney/
LOCATION:Art of the Meal\, 617 Broadway\, Marble Falls\, TX\, 78654\, United States
CATEGORIES:Private
ATTACH;FMTTYPE=image/webp:https://artofthemeal.net/wp-content/uploads/2022/09/artofmeal.webp
GEO:30.5756376;-98.2716627
X-APPLE-STRUCTURED-LOCATION;VALUE=URI;X-ADDRESS=Art of the Meal 617 Broadway Marble Falls TX 78654 United States;X-APPLE-RADIUS=500;X-TITLE=617 Broadway:geo:-98.2716627,30.5756376
END:VEVENT
BEGIN:VEVENT
DTSTART;TZID=America/Chicago:20251030T170000
DTEND;TZID=America/Chicago:20251030T210000
DTSTAMP:20260423T145436
CREATED:20250723T225340Z
LAST-MODIFIED:20250723T225340Z
UID:10000525-1761843600-1761858000@artofthemeal.net
SUMMARY:Private Chef-Cole
DESCRIPTION:
URL:https://artofthemeal.net/event/private-chef-cole/
LOCATION:Art of the Meal\, 617 Broadway\, Marble Falls\, TX\, 78654\, United States
CATEGORIES:Private Chef
ATTACH;FMTTYPE=image/jpeg:https://artofthemeal.net/wp-content/uploads/2024/01/Hands-On-Valentines-Day-New-Orleans-Surf-and-Tu….jpeg
GEO:30.5756376;-98.2716627
X-APPLE-STRUCTURED-LOCATION;VALUE=URI;X-ADDRESS=Art of the Meal 617 Broadway Marble Falls TX 78654 United States;X-APPLE-RADIUS=500;X-TITLE=617 Broadway:geo:-98.2716627,30.5756376
END:VEVENT
BEGIN:VEVENT
DTSTART;TZID=America/Chicago:20251031T120000
DTEND;TZID=America/Chicago:20251031T150000
DTSTAMP:20260423T145436
CREATED:20250820T203201Z
LAST-MODIFIED:20250820T203201Z
UID:10000540-1761912000-1761922800@artofthemeal.net
SUMMARY:Catering-Fechner
DESCRIPTION:
URL:https://artofthemeal.net/event/catering-fechner/
LOCATION:Art of the Meal\, 617 Broadway\, Marble Falls\, TX\, 78654\, United States
CATEGORIES:Catering
ATTACH;FMTTYPE=image/webp:https://artofthemeal.net/wp-content/uploads/2022/09/artofmeal.webp
GEO:30.5756376;-98.2716627
X-APPLE-STRUCTURED-LOCATION;VALUE=URI;X-ADDRESS=Art of the Meal 617 Broadway Marble Falls TX 78654 United States;X-APPLE-RADIUS=500;X-TITLE=617 Broadway:geo:-98.2716627,30.5756376
END:VEVENT
END:VCALENDAR